BEGIN:VCALENDAR
VERSION:2.0
PRODID:-//Destino Caldas - ECPv6.15.16//NONSGML v1.0//EN
CALSCALE:GREGORIAN
METHOD:PUBLISH
X-WR-CALNAME:Destino Caldas
X-ORIGINAL-URL:https://destinocaldas.com
X-WR-CALDESC:Eventos para Destino Caldas
REFRESH-INTERVAL;VALUE=DURATION:PT1H
X-Robots-Tag:noindex
X-PUBLISHED-TTL:PT1H
BEGIN:VTIMEZONE
TZID:America/New_York
BEGIN:DAYLIGHT
TZOFFSETFROM:-0500
TZOFFSETTO:-0400
TZNAME:EDT
DTSTART:20250309T070000
END:DAYLIGHT
BEGIN:STANDARD
TZOFFSETFROM:-0400
TZOFFSETTO:-0500
TZNAME:EST
DTSTART:20251102T060000
END:STANDARD
BEGIN:DAYLIGHT
TZOFFSETFROM:-0500
TZOFFSETTO:-0400
TZNAME:EDT
DTSTART:20260308T070000
END:DAYLIGHT
BEGIN:STANDARD
TZOFFSETFROM:-0400
TZOFFSETTO:-0500
TZNAME:EST
DTSTART:20261101T060000
END:STANDARD
BEGIN:DAYLIGHT
TZOFFSETFROM:-0500
TZOFFSETTO:-0400
TZNAME:EDT
DTSTART:20270314T070000
END:DAYLIGHT
BEGIN:STANDARD
TZOFFSETFROM:-0400
TZOFFSETTO:-0500
TZNAME:EST
DTSTART:20271107T060000
END:STANDARD
END:VTIMEZONE
BEGIN:VEVENT
DTSTART;TZID=America/New_York:20260423T080000
DTEND;TZID=America/New_York:20260423T170000
DTSTAMP:20260423T115648
CREATED:20260406T210423Z
LAST-MODIFIED:20260406T210423Z
UID:14787-1776931200-1776963600@destinocaldas.com
SUMMARY:Party Neon\, una actividad de las universidades de Manizales
DESCRIPTION:Una noche para moverte\, soltar el estrés y parchar con buena energía. (No importa si bailas pro o si vas a improvisar… aquí lo que cuenta es que te muevas y disfrutes con tu parche) \n\n\nRitmo\, actitud y vibra en un solo lugar. \nFecha 23 de abril\n\n\n Coliseo Universidad de Caldas\n 6:00 p. m.\n\n\n Recuerda ir de negro\n\n \n\nCompartir en… \n\n\n  \n    \n  \n \n\n  \n\n \nFacebook\n\n\n    \n    \n\n\n	\n	\n\n \nTwitter\n\n\n  \n    \n  \n \n\n\n\n\n\n \nLinkedin
URL:https://destinocaldas.com/evento/party-neon-una-actividad-de-las-universidades-de-manizales/
ATTACH;FMTTYPE=image/jpeg:https://destinocaldas.com/wp-content/uploads/2026/04/Copia-de-neon.jpg
END:VEVENT
BEGIN:VEVENT
DTSTART;TZID=America/New_York:20260423T080000
DTEND;TZID=America/New_York:20260423T170000
DTSTAMP:20260423T115648
CREATED:20260413T171326Z
LAST-MODIFIED:20260413T171326Z
UID:14806-1776931200-1776963600@destinocaldas.com
SUMMARY:“Corre\, Brilla y Muévete MZL”
DESCRIPTION:El evento “Corre\, Brilla y Muévete MZL” será el próximo 23 de abril\, de 6 de la tarde a 9 de la noche.\nLa jornada\, celebrará el primer año del programa ‘Muévete Manizales’.\nLa Alcaldía de Manizales\, a través de la Secretaría del Deporte\, invita a la ciudadanía a participar en “Corre\, Brilla y Muévete MZL”\, evento que llenará de luz\, actividad física y entretenimiento el Estadio Palogrande este 23 de abril\, entre las 6:00 y las 9:00 p.m. \nLa jornada está diseñada para ofrecer una experiencia diferente alrededor del movimiento y el bienestar. Los asistentes podrán disfrutar de dos espacios principales: por un lado\, la pista atlética estará habilitada para quienes deseen correr o trotar; y por otro\, la cancha auxiliar será escenario de actividad física musicalizada. \nLa invitación está abierta para que propios y visitantes se sumen a la iniciativa que promueve la actividad física\, el encuentro ciudadano y el disfrute del espacio público en un formato innovador y lleno de energía. \nInscríbete a esta actividad aquí: https://docs.google.com/forms/d/e/1FAIpQLSfMCJQcK9TpAOwmQ9twaLDwDVbu-7ESbL3o_Ref560vTALu9Q/viewform \n \n\nCompartir en… \n\n\n  \n    \n  \n \n\n  \n\n \nFacebook\n\n\n    \n    \n\n\n	\n	\n\n \nTwitter\n\n\n  \n    \n  \n \n\n\n\n\n\n \nLinkedin
URL:https://destinocaldas.com/evento/corre-brilla-y-muevete-mzl/
ATTACH;FMTTYPE=image/jpeg:https://destinocaldas.com/wp-content/uploads/2026/04/neon.jpg
END:VEVENT
BEGIN:VEVENT
DTSTART;TZID=America/New_York:20260423T080000
DTEND;TZID=America/New_York:20260425T170000
DTSTAMP:20260423T115648
CREATED:20260408T171140Z
LAST-MODIFIED:20260408T171227Z
UID:14791-1776931200-1777136400@destinocaldas.com
SUMMARY:Filadelfia prepara el XXX Encuentro de Escritores Danilo Cruz Vélez
DESCRIPTION:ESCRITURA Y TRADICIÓN: 30 AÑOS CUSTODIANDO EL LEGADO DE LA PALABRA \n\n\nDel 23 al 25 de abril\, Filadelfia se viste de letras\, historia y sentimiento para vivir el XXX Encuentro de Escritores Danilo Cruz Vélez\, un homenaje a tres décadas donde la palabra ha sido puente\, memoria y raíz.\n\n\nNuestro municipio se convierte en el epicentro de la literatura colombiana\, recibiendo a escritores y amantes de las letras que llegan desde distintos rincones del país para reflexionar\, narrar y honrar el pensamiento de uno de nuestros grandes referentes culturales.\n\n\n Tres días para leer\, escuchar\, sentir y compartir.\nTres días para celebrar las historias que nos unen y las tradiciones que siguen vivas en cada página.\n\n\n Filadelfia te espera con las puertas abiertas y los libros listos.\n\n\nTe esperamos\n\n \n\nCompartir en… \n\n\n  \n    \n  \n \n\n  \n\n \nFacebook\n\n\n    \n    \n\n\n	\n	\n\n \nTwitter\n\n\n  \n    \n  \n \n\n\n\n\n\n \nLinkedin
URL:https://destinocaldas.com/evento/filadelfia-prepara-el-xxx-encuentro-de-escritores-danilo-cruz-velez/
ATTACH;FMTTYPE=image/jpeg:https://destinocaldas.com/wp-content/uploads/2026/04/filadelf.jpg
END:VEVENT
BEGIN:VEVENT
DTSTART;TZID=America/New_York:20260424T080000
DTEND;TZID=America/New_York:20260424T170000
DTSTAMP:20260423T115648
CREATED:20260405T154314Z
LAST-MODIFIED:20260405T154314Z
UID:14779-1777017600-1777050000@destinocaldas.com
SUMMARY:El Cuarto Soda\, "Me verás volver" en Manizales
DESCRIPTION:El Cuarto Soda presenta: “Me verás volver” en el Teatro Fundadores.\nLuego de agotar entradas en 2025\, el homenaje más grande a Soda Stereo regresa por una noche inolvidable.\nDesde Argentina\, el homenaje más destacado a Soda Stereo de Latnoamérica!\n\n\n 24 de Abril – 8:00 PM\n Tickets en: www.mitaquilla.com.co\n\n\n¡No te quedes por fuera del evento de rock del año! \n\n \n\nCompartir en… \n\n\n  \n    \n  \n \n\n  \n\n \nFacebook\n\n\n    \n    \n\n\n	\n	\n\n \nTwitter\n\n\n  \n    \n  \n \n\n\n\n\n\n \nLinkedin
URL:https://destinocaldas.com/evento/el-cuarto-soda-me-veras-volver-en-manizales/
ATTACH;FMTTYPE=image/jpeg:https://destinocaldas.com/wp-content/uploads/2026/04/soda-mzl.jpg
END:VEVENT
BEGIN:VEVENT
DTSTART;TZID=America/New_York:20260429T080000
DTEND;TZID=America/New_York:20260429T170000
DTSTAMP:20260423T115648
CREATED:20260422T225744Z
LAST-MODIFIED:20260422T225744Z
UID:14830-1777449600-1777482000@destinocaldas.com
SUMMARY:Manzanares habla de turismo
DESCRIPTION:¿Y si el turismo en Manzanares lo impulsamos entre todos?\n\n\nSi tienes un negocio\, emprendimiento del sector hotelero\, alojamientos campestres o gastronómico\, una propuesta o iniciativa del sector turístico\, esta invitación es para ti.\n\n\nQueremos escucharte\, compartir ideas y construir juntos rutas reales para fortalecer el turismo en nuestro municipio \n\n\nEste será un espacio cercano\, práctico y pensado para quienes ya le están apostando a que Manzanares siga creciendo como destino.\n\n\nTe esperamos para conversar\, proponer y sumar\n 29 de abril\n 04:00 p.m.\n Auditorio del Centro Cultural y de La Juventud\n\n\nPorque el turismo no se construye solo\, se construye en equipo\n\n\nwww.manzanares-caldas.gov.co\n\n \n\nCompartir en… \n\n\n  \n    \n  \n \n\n  \n\n \nFacebook\n\n\n    \n    \n\n\n	\n	\n\n \nTwitter\n\n\n  \n    \n  \n \n\n\n\n\n\n \nLinkedin
URL:https://destinocaldas.com/evento/manzanares-habla-de-turismo/
ATTACH;FMTTYPE=image/jpeg:https://destinocaldas.com/wp-content/uploads/2026/04/Copia-de-manza.jpg
END:VEVENT
BEGIN:VEVENT
DTSTART;TZID=America/New_York:20260501T080000
DTEND;TZID=America/New_York:20260502T170000
DTSTAMP:20260423T115648
CREATED:20260420T144438Z
LAST-MODIFIED:20260420T144438Z
UID:14823-1777622400-1777741200@destinocaldas.com
SUMMARY:La Dorada realiza la feria  El Malecón danza al ritmo de agua
DESCRIPTION:La  la feria El Malecón danza al ritmo de agua tiene programada:\n– Exhibiciones de danza Folklórica y bailes internacional\n– Invitados especiales: Bailarines Profesionales de Salsa de la ciudad de Cali \nLugar: Malecón turistico de La Dorada\nHora: 05:00 \n  \n\nCompartir en… \n\n\n  \n    \n  \n \n\n  \n\n \nFacebook\n\n\n    \n    \n\n\n	\n	\n\n \nTwitter\n\n\n  \n    \n  \n \n\n\n\n\n\n \nLinkedin
URL:https://destinocaldas.com/evento/la-dorada-realiza-la-feria-el-malecon-danza-al-ritmo-de-agua/
ATTACH;FMTTYPE=image/jpeg:https://destinocaldas.com/wp-content/uploads/2026/04/dorada.jpg
END:VEVENT
BEGIN:VEVENT
DTSTART;TZID=America/New_York:20260606T080000
DTEND;TZID=America/New_York:20260606T170000
DTSTAMP:20260423T115648
CREATED:20260423T143251Z
LAST-MODIFIED:20260423T143251Z
UID:14838-1780732800-1780765200@destinocaldas.com
SUMMARY:Foto Paéz\, sale el sol en Manizales
DESCRIPTION:Este 6 de junio Manizales vivirá una noche cargada de historia\, emoción y canciones eternas. \n\nCompartir en… \n\n\n  \n    \n  \n \n\n  \n\n \nFacebook\n\n\n    \n    \n\n\n	\n	\n\n \nTwitter\n\n\n  \n    \n  \n \n\n\n\n\n\n \nLinkedin
URL:https://destinocaldas.com/evento/foto-paez-sale-el-sol-en-manizales/
ATTACH;FMTTYPE=image/jpeg:https://destinocaldas.com/wp-content/uploads/2026/04/fito.jpg
END:VEVENT
BEGIN:VEVENT
DTSTART;TZID=America/New_York:20260625T080000
DTEND;TZID=America/New_York:20260628T170000
DTSTAMP:20260423T115648
CREATED:20260420T171258Z
LAST-MODIFIED:20260420T171258Z
UID:14826-1782374400-1782666000@destinocaldas.com
SUMMARY:Festival Mono Núñez en su versión edición 52
DESCRIPTION:¡Vive el Festival Mono Núñez en su versión #52!\n\n\nGinebra Pueblo Mágico te invita a disfrutar de uno de los eventos más importantes de la música andina colombiana \, donde el talento\, la tradición y la cultura se unen en un solo escenario.\n\n\n Déjate enamorar por las mejores voces e intérpretes del país\, en un ambiente lleno de identidad\, historia y orgullo cultural.\n\n\n Ven y sé parte de esta gran fiesta que exalta nuestras raíces y posiciona a Ginebra como epicentro de la música tradicional.\n\n\n ¡Te esperamos para vivir juntos el #MonoNúñez52!\n\n \n\nCompartir en… \n\n\n  \n    \n  \n \n\n  \n\n \nFacebook\n\n\n    \n    \n\n\n	\n	\n\n \nTwitter\n\n\n  \n    \n  \n \n\n\n\n\n\n \nLinkedin
URL:https://destinocaldas.com/evento/festival-mono-nunez-en-su-version-edicion-52/
ATTACH;FMTTYPE=image/jpeg:https://destinocaldas.com/wp-content/uploads/2026/04/nunez.jpg
END:VEVENT
BEGIN:VEVENT
DTSTART;TZID=America/New_York:20260627T080000
DTEND;TZID=America/New_York:20260627T170000
DTSTAMP:20260423T115648
CREATED:20260410T150023Z
LAST-MODIFIED:20260410T150023Z
UID:14798-1782547200-1782579600@destinocaldas.com
SUMMARY:En supía se corre la Colación Running
DESCRIPTION:COLACIÓN RUNNING 5K y 10K \n\n\nEn el marco de la XXVIII Feria de la Colación “Caña y café. Origen y tradición”\, llega una experiencia llena de energía\, reto y emoción \n\n\n Fecha: 27 de junio de 2026\n Valor de inscripción: $100.000\n Inscripciones abiertas hasta el 30 de mayo de 2026\n\n\nTu inscripción incluye:\n Camiseta\n Tula\n Dorsal\n Hidratación\n Medalla\n\n\n Pago de inscripción: Nequi 3046535747\n\n\n Términos y condiciones:\n\n\n* Actividad exclusiva para mayores de edad.\n* Participación bajo responsabilidad de cada inscrito.\n\n\nSe recomienda estar en condiciones físicas aptas para la carrera.\n\n\n Más información: 3218010628 / 3046535747\n\n\n ¡Anímate a ser parte de esta gran fiesta deportiva y cultural!\n\n \n\nCompartir en… \n\n\n  \n    \n  \n \n\n  \n\n \nFacebook\n\n\n    \n    \n\n\n	\n	\n\n \nTwitter\n\n\n  \n    \n  \n \n\n\n\n\n\n \nLinkedin
URL:https://destinocaldas.com/evento/en-supia-se-corre-la-colacion-running/
ATTACH;FMTTYPE=image/jpeg:https://destinocaldas.com/wp-content/uploads/2026/04/supia-1.jpg
END:VEVENT
BEGIN:VEVENT
DTSTART;TZID=America/New_York:20260627T080000
DTEND;TZID=America/New_York:20260628T170000
DTSTAMP:20260423T115648
CREATED:20260423T141530Z
LAST-MODIFIED:20260423T141530Z
UID:14833-1782547200-1782666000@destinocaldas.com
SUMMARY:XXXIX Exposición Equina Grado B Salamina 2026
DESCRIPTION:Desde la Alcaldía Municipal de Salamina los invitamos a vivir y disfrutar la XXXIX versión de la Exposición Equina Grado B Salamina 2026\, del 27 y 28 de Junio. Una de las mejores Grado B del país. Los esperamos!!! \n\nCompartir en… \n\n\n  \n    \n  \n \n\n  \n\n \nFacebook\n\n\n    \n    \n\n\n	\n	\n\n \nTwitter\n\n\n  \n    \n  \n \n\n\n\n\n\n \nLinkedin
URL:https://destinocaldas.com/evento/xxxix-exposicion-equina-grado-b-salamina-2026/
ATTACH;FMTTYPE=image/jpeg:https://destinocaldas.com/wp-content/uploads/2026/04/equina.jpg
END:VEVENT
END:VCALENDAR